BEGIN:VCALENDAR
VERSION:2.0
PRODID:-//ChamberMaster//Event Calendar 2.0//EN
METHOD:PUBLISH
X-PUBLISHED-TTL:P3D
REFRESH-INTERVAL:P3D
CALSCALE:GREGORIAN
BEGIN:VEVENT
DTSTART:20240822T230000Z
DTEND:20240823T020000Z
X-MICROSOFT-CDO-ALLDAYEVENT:FALSE
SUMMARY:AVE Preview and Tasting
DESCRIPTION:You're Invite - VIP Tasting Event
X-ALT-DESC;FMTTYPE=text/html:You&#39\;re Invite - VIP Tasting Event&nbsp\;
LOCATION:
UID:e.3535.4976
SEQUENCE:3
DTSTAMP:20260424T062718Z
URL:http://svcentralchamber.chambermaster.com/events/details/ave-preview-and-tasting-4976
END:VEVENT

END:VCALENDAR
