BEGIN:VCALENDAR
VERSION:2.0
PRODID:-//ChamberMaster//Event Calendar 2.0//EN
METHOD:PUBLISH
X-PUBLISHED-TTL:P3D
REFRESH-INTERVAL:P3D
CALSCALE:GREGORIAN
BEGIN:VEVENT
DTSTART:20230307T220000Z
DTEND:20230307T230000Z
X-MICROSOFT-CDO-ALLDAYEVENT:FALSE
SUMMARY:Labor Laws Workshop
DESCRIPTION:Educate yourself\, and your management team.. before it is too late. \n\nYour staff is educating themselves. They know the laws and their rights. \n\nDo You? \n\nJoin the SVC Chamber in partnership with the SBDC and learn to protect your most valuable assets. Management teams welcome and encouraged to attend. \n\nTopics Include: \n\nCurrent Leave laws (CFRA) for 2023. \n\nMeals and rest periods\, minimum wage payments - what's required. \n\nWage Statements & Hiring Covid: Where are Employers now?
X-ALT-DESC;FMTTYPE=text/html:<p style="box-sizing: border-box\; margin-top: 0px\; margin-bottom: 1rem\; font-family: neue-haas-grotesk-text\, sans-serif\; color: rgb(33\, 36\, 45)\; font-size: 16px\; line-height: 24px\;">Educate yourself\, and your management team.. before it is too late.&nbsp\;</p>\n\n<p style="box-sizing: border-box\; margin-top: 0px\; margin-bottom: 1rem\; font-family: neue-haas-grotesk-text\, sans-serif\; color: rgb(33\, 36\, 45)\; font-size: 16px\; line-height: 24px\;">Your staff is educating themselves. They know the laws and their rights.&nbsp\;</p>\n\n<p style="box-sizing: border-box\; margin-top: 0px\; margin-bottom: 1rem\; font-family: neue-haas-grotesk-text\, sans-serif\; color: rgb(33\, 36\, 45)\; font-size: 16px\; line-height: 24px\;"><span fr-original-style="" style="box-sizing: border-box\; font-weight: 700\;">Do You</span><span fr-original-style="" style="box-sizing: border-box\; font-weight: 700\;">?</span>&nbsp\;</p>\n\n<p style="box-sizing: border-box\; margin-top: 0px\; margin-bottom: 1rem\; font-family: neue-haas-grotesk-text\, sans-serif\; color: rgb(33\, 36\, 45)\; font-size: 16px\; line-height: 24px\;">Join the SVC Chamber&nbsp\;in partnership with the SBDC and learn to protect your most valuable assets. Management teams welcome and encouraged to attend.&nbsp\;</p>\n\n<p style="box-sizing: border-box\; margin-top: 0px\; margin-bottom: 1rem\; font-family: neue-haas-grotesk-text\, sans-serif\; color: rgb(33\, 36\, 45)\; font-size: 16px\; line-height: 24px\;">Topics Include:&nbsp\;</p>\n\n<p style="box-sizing: border-box\; margin-top: 0px\; margin-bottom: 1rem\; font-family: neue-haas-grotesk-text\, sans-serif\; color: rgb(33\, 36\, 45)\; font-size: 16px\; line-height: 24px\;">Current Leave laws (CFRA) for 2023.&nbsp\;</p>\n\n<p style="box-sizing: border-box\; margin-top: 0px\; margin-bottom: 1rem\; font-family: neue-haas-grotesk-text\, sans-serif\; color: rgb(33\, 36\, 45)\; font-size: 16px\; line-height: 24px\;">Meals and rest periods\, minimum wage payments - what&#39\;s required.&nbsp\;</p>\n\n<p style="box-sizing: border-box\; margin-top: 0px\; margin-bottom: 1rem\; font-family: neue-haas-grotesk-text\, sans-serif\; color: rgb(33\, 36\, 45)\; font-size: 16px\; line-height: 24px\;">Wage Statements &amp\; Hiring Covid: Where are Employers now?&nbsp\;</p>\n\n<p style="box-sizing: border-box\; margin-top: 0px\; margin-bottom: 1rem\; font-family: neue-haas-grotesk-text\, sans-serif\; color: rgb(33\, 36\, 45)\; font-size: 16px\; line-height: 24px\;">&nbsp\;</p>\n
LOCATION:
UID:e.3535.4550
SEQUENCE:3
DTSTAMP:20260423T114445Z
URL:http://svcentralchamber.chambermaster.com/events/details/labor-laws-workshop-4550
END:VEVENT

END:VCALENDAR
